BEGIN:VCALENDAR
VERSION:2.0
PRODID:-//Warhawk Air Museum - ECPv6.15.20//NONSGML v1.0//EN
CALSCALE:GREGORIAN
METHOD:PUBLISH
X-WR-CALNAME:Warhawk Air Museum
X-ORIGINAL-URL:https://warhawkairmuseum.org
X-WR-CALDESC:Events for Warhawk Air Museum
REFRESH-INTERVAL;VALUE=DURATION:PT1H
X-Robots-Tag:noindex
X-PUBLISHED-TTL:PT1H
BEGIN:VTIMEZONE
TZID:America/Boise
BEGIN:DAYLIGHT
TZOFFSETFROM:-0700
TZOFFSETTO:-0600
TZNAME:MDT
DTSTART:20250309T090000
END:DAYLIGHT
BEGIN:STANDARD
TZOFFSETFROM:-0600
TZOFFSETTO:-0700
TZNAME:MST
DTSTART:20251102T080000
END:STANDARD
BEGIN:DAYLIGHT
TZOFFSETFROM:-0700
TZOFFSETTO:-0600
TZNAME:MDT
DTSTART:20260308T090000
END:DAYLIGHT
BEGIN:STANDARD
TZOFFSETFROM:-0600
TZOFFSETTO:-0700
TZNAME:MST
DTSTART:20261101T080000
END:STANDARD
BEGIN:DAYLIGHT
TZOFFSETFROM:-0700
TZOFFSETTO:-0600
TZNAME:MDT
DTSTART:20270314T090000
END:DAYLIGHT
BEGIN:STANDARD
TZOFFSETFROM:-0600
TZOFFSETTO:-0700
TZNAME:MST
DTSTART:20271107T080000
END:STANDARD
END:VTIMEZONE
BEGIN:VEVENT
DTSTART;TZID=America/Boise:20260525T090000
DTEND;TZID=America/Boise:20260525T170000
DTSTAMP:20260421T032955
CREATED:20160523T150417Z
LAST-MODIFIED:20260305T184918Z
UID:10000501-1779699600-1779728400@warhawkairmuseum.org
SUMMARY:Memorial Day Flyover & $5 General Admission
DESCRIPTION:Join us this Memorial Day for a day of reflection as we honor those who have lost their lives serving in the U.S. Armed Forces.\n\n\n\nThe Warhawk Air Museum will be open from 9 a.m. to 5 p.m. Admission is only $5 for all guests over the age of 5. Food and drink vendors will be available. Weather permitting\, warbirds will fly over the museum and select locations throughout the area in tribute to those we have lost. \n\n\n\n\n\n\n\n\n\n\n\n\n\n\n\n\n\n\n\n\n\n\n\n\n\n\n\n\n\n* Flying is weather-dependent\, and changes will be announced via our Facebook page. Flyover location times are approximate. The Museum will be open from 9 a.m. to 5 p.m. on Memorial Day. \n\n\n\n\n\n\n\n\n$5 museum general admission; kids 5 and under are free!\n\n\n\n\nBuy Tickets\n\n\n\n\n\n\n\n\n\n\n\n\n\n\n\n\n\nThank you to our sponsors!\n\n\n\n\n\n\n\n\n\n\n\n\n\n\n\n\n\n\n\n\n\n\n\n\n\n\n\n\n\n\n\n\n\n\n\n\n\n\n\n\n\n\n\n\n\n\n\n\n\n\n\n\n\n\n\nBuy Tickets
URL:https://warhawkairmuseum.org/event/memorial-day/
LOCATION:ID
CATEGORIES:Open,Special Events
ATTACH;FMTTYPE=image/jpeg:https://warhawkairmuseum.org/wp-content/uploads/2016/05/memorial-day-2025-feature.jpg
END:VEVENT
BEGIN:VEVENT
DTSTART;TZID=America/Boise:20260621T110000
DTEND;TZID=America/Boise:20260621T160000
DTSTAMP:20260421T032955
CREATED:20220607T221021Z
LAST-MODIFIED:20251124T233617Z
UID:10000540-1782039600-1782057600@warhawkairmuseum.org
SUMMARY:Father's Day Weekend
DESCRIPTION:We are OPEN on Father’s Day (June 21st) and all fathers get in FREE!
URL:https://warhawkairmuseum.org/event/fathers-day-weekend/
LOCATION:Warhawk Air Museum\, 201 Municipal Drive \, Nampa\, ID\, 83687\, United States
CATEGORIES:Open,Special Events
ATTACH;FMTTYPE=image/png:https://warhawkairmuseum.org/wp-content/uploads/2022/06/fathers-day.png
GEO:43.5849448;-116.5232244
X-APPLE-STRUCTURED-LOCATION;VALUE=URI;X-ADDRESS=Warhawk Air Museum 201 Municipal Drive  Nampa ID 83687 United States;X-APPLE-RADIUS=500;X-TITLE=201 Municipal Drive:geo:-116.5232244,43.5849448
END:VEVENT
BEGIN:VEVENT
DTSTART;TZID=America/Boise:20260907T100000
DTEND;TZID=America/Boise:20260907T170000
DTSTAMP:20260421T032955
CREATED:20160523T150518Z
LAST-MODIFIED:20251125T230938Z
UID:10000502-1788775200-1788800400@warhawkairmuseum.org
SUMMARY:Open for Labor Day & $5 General Admission
DESCRIPTION:The Museum will be open Labor Day\, Monday September 7\, 2026 from 10:00am – 5:00pm with $5 discounted General Admission.See you there!
URL:https://warhawkairmuseum.org/event/labor-day/
LOCATION:Warhawk Air Museum\, 201 Municipal Drive \, Nampa\, ID\, 83687\, United States
CATEGORIES:Open
ATTACH;FMTTYPE=image/webp:https://warhawkairmuseum.org/wp-content/uploads/2016/05/musem-is-open.webp
GEO:43.5849448;-116.5232244
X-APPLE-STRUCTURED-LOCATION;VALUE=URI;X-ADDRESS=Warhawk Air Museum 201 Municipal Drive  Nampa ID 83687 United States;X-APPLE-RADIUS=500;X-TITLE=201 Municipal Drive:geo:-116.5232244,43.5849448
END:VEVENT
END:VCALENDAR