BEGIN:VCALENDAR
VERSION:2.0
PRODID:-//Warhawk Air Museum - ECPv6.15.20//NONSGML v1.0//EN
CALSCALE:GREGORIAN
METHOD:PUBLISH
X-ORIGINAL-URL:https://warhawkairmuseum.org
X-WR-CALDESC:Events for Warhawk Air Museum
REFRESH-INTERVAL;VALUE=DURATION:PT1H
X-Robots-Tag:noindex
X-PUBLISHED-TTL:PT1H
BEGIN:VTIMEZONE
TZID:America/Boise
BEGIN:DAYLIGHT
TZOFFSETFROM:-0700
TZOFFSETTO:-0600
TZNAME:MDT
DTSTART:20170312T090000
END:DAYLIGHT
BEGIN:STANDARD
TZOFFSETFROM:-0600
TZOFFSETTO:-0700
TZNAME:MST
DTSTART:20171105T080000
END:STANDARD
BEGIN:DAYLIGHT
TZOFFSETFROM:-0700
TZOFFSETTO:-0600
TZNAME:MDT
DTSTART:20180311T090000
END:DAYLIGHT
BEGIN:STANDARD
TZOFFSETFROM:-0600
TZOFFSETTO:-0700
TZNAME:MST
DTSTART:20181104T080000
END:STANDARD
BEGIN:DAYLIGHT
TZOFFSETFROM:-0700
TZOFFSETTO:-0600
TZNAME:MDT
DTSTART:20190310T090000
END:DAYLIGHT
BEGIN:STANDARD
TZOFFSETFROM:-0600
TZOFFSETTO:-0700
TZNAME:MST
DTSTART:20191103T080000
END:STANDARD
END:VTIMEZONE
BEGIN:VEVENT
DTSTART;VALUE=DATE:20181205
DTEND;VALUE=DATE:20181209
DTSTAMP:20260421T050054
CREATED:20160513T213410Z
LAST-MODIFIED:20210909T000837Z
UID:10000500-1543968000-1544313599@warhawkairmuseum.org
SUMMARY:Discounted Admission
DESCRIPTION:To honor the remarkable life and passing of President George H.W. Bush\, admission to the Warhawk Air Museum will be half-price through Saturday\, Dec. 8th. \n\nPlease join us.
URL:https://warhawkairmuseum.org/event/discounted-admission-weekend/
LOCATION:Warhawk Air Museum\, 201 Municipal Drive \, Nampa\, ID\, 83687\, United States
CATEGORIES:Open,Special Events
GEO:43.5849448;-116.5232244
X-APPLE-STRUCTURED-LOCATION;VALUE=URI;X-ADDRESS=Warhawk Air Museum 201 Municipal Drive  Nampa ID 83687 United States;X-APPLE-RADIUS=500;X-TITLE=201 Municipal Drive:geo:-116.5232244,43.5849448
END:VEVENT
END:VCALENDAR