BEGIN:VCALENDAR
VERSION:2.0
PRODID:-//Warhawk Air Museum - ECPv6.15.20//NONSGML v1.0//EN
CALSCALE:GREGORIAN
METHOD:PUBLISH
X-ORIGINAL-URL:https://warhawkairmuseum.org
X-WR-CALDESC:Events for Warhawk Air Museum
REFRESH-INTERVAL;VALUE=DURATION:PT1H
X-Robots-Tag:noindex
X-PUBLISHED-TTL:PT1H
BEGIN:VTIMEZONE
TZID:America/Boise
BEGIN:DAYLIGHT
TZOFFSETFROM:-0700
TZOFFSETTO:-0600
TZNAME:MDT
DTSTART:20250309T090000
END:DAYLIGHT
BEGIN:STANDARD
TZOFFSETFROM:-0600
TZOFFSETTO:-0700
TZNAME:MST
DTSTART:20251102T080000
END:STANDARD
BEGIN:DAYLIGHT
TZOFFSETFROM:-0700
TZOFFSETTO:-0600
TZNAME:MDT
DTSTART:20260308T090000
END:DAYLIGHT
BEGIN:STANDARD
TZOFFSETFROM:-0600
TZOFFSETTO:-0700
TZNAME:MST
DTSTART:20261101T080000
END:STANDARD
BEGIN:DAYLIGHT
TZOFFSETFROM:-0700
TZOFFSETTO:-0600
TZNAME:MDT
DTSTART:20270314T090000
END:DAYLIGHT
BEGIN:STANDARD
TZOFFSETFROM:-0600
TZOFFSETTO:-0700
TZNAME:MST
DTSTART:20271107T080000
END:STANDARD
END:VTIMEZONE
BEGIN:VEVENT
DTSTART;TZID=America/Boise:20260407T100000
DTEND;TZID=America/Boise:20260407T120000
DTSTAMP:20260421T045955
CREATED:20170724T152853Z
LAST-MODIFIED:20260105T221858Z
UID:10000504-1775556000-1775563200@warhawkairmuseum.org
SUMMARY:Kilroy Coffee Klatch: Idaho’s largest monthly gathering of veterans!
DESCRIPTION:The Kilroy Coffee Klatch was started by a handful of Veterans looking for a place to share coffee\, donuts\, and stories with other Veterans. Since then Kilroy has grown into the largest monthly gathering of Veterans in Idaho!  \n\n\n\nOur Kilroy Coffee Klatch meets the first Tuesday of every month at 10 a.m. and is FREE to any and all veterans! The general public is also welcome; regular admission charges will apply. Coffee and doughnuts will be served. No RSVP required. We hope you will join us! \n\n\n\nSponsored by \n\n\n\n\n\n\n\n\n\n\n\n\n\n\n\n\n\n\n\n\n\n\n\n\n\n\n\n\n\nApril 7\, 2026:\n\n\n\nDetails to come. \n\n\n\n\nREMINDER!\n\n\n\n\n\nKilroy Coffee Klatch will be in the new Global War on Terror hangar! Use the lower parking lot to be closest to the hangar! \n\n\n\n\n\n\n\n\n\n\n\n\nReady for more Kilroy Coffee Klatch?\n\n\n\nWatch previous Coffee Klatch’s on our Kilroy Coffee Klatch page. We have selected videos of the event starting from December 2010 available. \n\n\n\nPlease note: Admission is only FREE for Veterans who attend the Kilroy Coffee Klatch. Admission will be charged to those who simply wish to visit the museum during that time (without participating in the Coffee Klatch).
URL:https://warhawkairmuseum.org/event/kilroy-coffee-klatch-april/
LOCATION:Warhawk Air Museum\, 201 Municipal Drive \, Nampa\, ID\, 83687\, United States
CATEGORIES:Kilroy
ATTACH;FMTTYPE=image/jpeg:https://warhawkairmuseum.org/wp-content/uploads/2016/04/Kilroy-coffee-event.jpg
GEO:43.5849448;-116.5232244
X-APPLE-STRUCTURED-LOCATION;VALUE=URI;X-ADDRESS=Warhawk Air Museum 201 Municipal Drive  Nampa ID 83687 United States;X-APPLE-RADIUS=500;X-TITLE=201 Municipal Drive:geo:-116.5232244,43.5849448
END:VEVENT
BEGIN:VEVENT
DTSTART;TZID=America/Boise:20260303T100000
DTEND;TZID=America/Boise:20260303T120000
DTSTAMP:20260421T045955
CREATED:20211229T214717Z
LAST-MODIFIED:20260227T003106Z
UID:10000538-1772532000-1772539200@warhawkairmuseum.org
SUMMARY:Kilroy Coffee Klatch: Idaho’s largest monthly gathering of veterans!
DESCRIPTION:The Kilroy Coffee Klatch was started by a handful of Veterans looking for a place to share coffee\, donuts\, and stories with other Veterans. Since then Kilroy has grown into the largest monthly gathering of Veterans in Idaho!  \n\n\n\nOur Kilroy Coffee Klatch meets the first Tuesday of every month at 10 a.m. and is FREE to any and all veterans! The general public is also welcome; regular admission charges will apply. Coffee and doughnuts will be served. No RSVP required. We hope you will join us! \n\n\n\nSponsored by \n\n\n\n\n\n\n\n\n\n\n\n\n\n\n\n\n\n\n\n\n\n\n\n\n\n\n\n\n\nMarch 3\, 2026:\n\n\n\nGuest speaker Norb Murray retired as a lieutenant colonel in 1989 after 25 years in the U.S. Marine Corps. Over his career he was a naval aviator primarily flying helicopters. He served one full tour in Vietnam\, flying 820 combat missions\, and a second tour with the amphibious ready force off the coast of Vietnam. \n\n\n\nFrom 1973 to 1978 Norb served with HMX-I\, the Presidential Helicopter Squadron\, during Presidents Nixon\, Ford\, and Carter’s administrations. Norb also served as liaison to the White House and as an advance officer for Marine One. \n\n\n\n\nREMINDER!\n\n\n\n\n\nKilroy Coffee Klatch will be in the new Global War on Terror hangar! Use the lower parking lot to be closest to the hangar! \n\n\n\n\n\n\n\n\n\n\n\n\nReady for more Kilroy Coffee Klatch?\n\n\n\nWatch previous Coffee Klatch’s on our Kilroy Coffee Klatch page. We have selected videos of the event starting from December 2010 available. \n\n\n\nPlease note: Admission is only FREE for Veterans who attend the Kilroy Coffee Klatch. Admission will be charged to those who simply wish to visit the museum during that time (without participating in the Coffee Klatch).
URL:https://warhawkairmuseum.org/event/kilroy-coffee-klatch-march/
LOCATION:Warhawk Air Museum\, 201 Municipal Drive \, Nampa\, ID\, 83687\, United States
CATEGORIES:Kilroy
ATTACH;FMTTYPE=image/jpeg:https://warhawkairmuseum.org/wp-content/uploads/2016/04/Kilroy-coffee-event.jpg
GEO:43.5849448;-116.5232244
X-APPLE-STRUCTURED-LOCATION;VALUE=URI;X-ADDRESS=Warhawk Air Museum 201 Municipal Drive  Nampa ID 83687 United States;X-APPLE-RADIUS=500;X-TITLE=201 Municipal Drive:geo:-116.5232244,43.5849448
END:VEVENT
BEGIN:VEVENT
DTSTART;TZID=America/Boise:20260203T100000
DTEND;TZID=America/Boise:20260203T120000
DTSTAMP:20260421T045955
CREATED:20211229T214233Z
LAST-MODIFIED:20260130T001003Z
UID:10000537-1770112800-1770120000@warhawkairmuseum.org
SUMMARY:Kilroy Coffee Klatch: Idaho’s largest monthly gathering of veterans!
DESCRIPTION:The Kilroy Coffee Klatch was started by a handful of Veterans looking for a place to share coffee\, donuts\, and stories with other Veterans. Since then Kilroy has grown into the largest monthly gathering of Veterans in Idaho!  \n\n\n\nOur Kilroy Coffee Klatch meets the first Tuesday of every month at 10 a.m. and is FREE to any and all veterans! The general public is also welcome; regular admission charges will apply. Coffee and doughnuts will be served. No RSVP required. We hope you will join us! \n\n\n\nSponsored by \n\n\n\n\n\n\n\n\n\n\n\n\n\n\n\n\n\n\n\n\n\n\n\n\n\n\n\n\n\nFebruary 3\, 2026:\n\n\n\nIdaho-based land and seaplane pilot Crista V. Worthy has been flying around North America since 1995\, and writing about fun places to fly since 2006. The former Managing Editor of Pilot Getaways magazine\, she is now the author of Images of Aviation: Idaho Aviation\, Editor of the Idaho Aviation Association online magazine The Flyline\, and Editor of the Washington Seaplane Pilots Association newsletter. Crista will be talking about how Idaho’s unique geology and geography made the Gem State an early mecca for aviation and how pioneering backcountry pilots evolved from Depression-era mail and freight delivery flyers into significant contributors to America’s military during and after World War II. \n\n\n\n\nREMINDER!\n\n\n\n\n\nKilroy Coffee Klatch will be in the new Global War on Terror hangar! Use the lower parking lot to be closest to the hangar! \n\n\n\n\n\n\n\n\n\n\n\n\nReady for more Kilroy Coffee Klatch?\n\n\n\nWatch previous Coffee Klatch’s on our Kilroy Coffee Klatch page. We have selected videos of the event starting from December 2010 available. \n\n\n\nPlease note: Admission is only FREE for Veterans who attend the Kilroy Coffee Klatch. Admission will be charged to those who simply wish to visit the museum during that time (without participating in the Coffee Klatch).
URL:https://warhawkairmuseum.org/event/kilroy-coffee-klatch-february/
LOCATION:Warhawk Air Museum\, 201 Municipal Drive \, Nampa\, ID\, 83687\, United States
CATEGORIES:Kilroy
ATTACH;FMTTYPE=image/jpeg:https://warhawkairmuseum.org/wp-content/uploads/2016/04/Kilroy-coffee-event.jpg
GEO:43.5849448;-116.5232244
X-APPLE-STRUCTURED-LOCATION;VALUE=URI;X-ADDRESS=Warhawk Air Museum 201 Municipal Drive  Nampa ID 83687 United States;X-APPLE-RADIUS=500;X-TITLE=201 Municipal Drive:geo:-116.5232244,43.5849448
END:VEVENT
BEGIN:VEVENT
DTSTART;TZID=America/Boise:20260106T100000
DTEND;TZID=America/Boise:20260106T120000
DTSTAMP:20260421T045955
CREATED:20211229T213402Z
LAST-MODIFIED:20260105T222033Z
UID:10000536-1767693600-1767700800@warhawkairmuseum.org
SUMMARY:Kilroy Coffee Klatch: Idaho’s largest monthly gathering of veterans!
DESCRIPTION:The Kilroy Coffee Klatch was started by a handful of Veterans looking for a place to share coffee\, donuts\, and stories with other Veterans. Since then Kilroy has grown into the largest monthly gathering of Veterans in Idaho!  \n\n\n\nOur Kilroy Coffee Klatch meets the first Tuesday of every month at 10 a.m. and is FREE to any and all veterans! The general public is also welcome; regular admission charges will apply. Coffee and doughnuts will be served. No RSVP required. We hope you will join us! \n\n\n\nSponsored by \n\n\n\n\n\n\n\n\n\n\n\n\n\n\n\n\n\n\n\n\n\n\n\n\n\n\n\n\n\nJanuary 6\, 2026:\n\n\n\nSince 1982\, Dogs Inc. has pioneered life changing and saving work through world-class service dogs\, guide dogs\, and more. Based in Palmetto\, Florida\, and serving the entire continental US\, every dog is provided to every recipient as a gift absolutely FREE with a one-of-a-kind alumni benefits program. Dogs Inc. operates solely on donations from individuals and organizations on a national level\, which allows us to continue to ensure that healing remains free. \n\n\n\nGuest speakers Army veteran Sean Brown and Gold Star Spouse Jillian Hinton are both Dogs Inc. recipients who have witnessed firsthand the impact that these lifesaving dogs have on both them and their families. Their journeys prove that a cold nose and a tail can be the spark to ending veteran suicide AND providing peace for a family who has given the ultimate sacrifice for our freedoms. \n\n\n\n\nREMINDER!\n\n\n\n\n\nKilroy Coffee Klatch will be in the new Global War on Terror hangar! Use the lower parking lot to be closest to the hangar! \n\n\n\n\n\n\n\n\n\n\n\n\nReady for more Kilroy Coffee Klatch?\n\n\n\nWatch previous Coffee Klatch’s on our Kilroy Coffee Klatch page. We have selected videos of the event starting from December 2010 available. \n\n\n\nPlease note: Admission is only FREE for Veterans who attend the Kilroy Coffee Klatch. Admission will be charged to those who simply wish to visit the museum during that time (without participating in the Coffee Klatch).
URL:https://warhawkairmuseum.org/event/kilroy-coffee-klatch-january/
LOCATION:Warhawk Air Museum\, 201 Municipal Drive \, Nampa\, ID\, 83687\, United States
CATEGORIES:Kilroy
ATTACH;FMTTYPE=image/jpeg:https://warhawkairmuseum.org/wp-content/uploads/2016/04/Kilroy-coffee-event.jpg
GEO:43.5849448;-116.5232244
X-APPLE-STRUCTURED-LOCATION;VALUE=URI;X-ADDRESS=Warhawk Air Museum 201 Municipal Drive  Nampa ID 83687 United States;X-APPLE-RADIUS=500;X-TITLE=201 Municipal Drive:geo:-116.5232244,43.5849448
END:VEVENT
END:VCALENDAR